BEGIN:VCALENDAR
VERSION:2.0
PRODID:-//Quota Club of Brisbane Inc - ECPv6.15.20//NONSGML v1.0//EN
CALSCALE:GREGORIAN
METHOD:PUBLISH
X-ORIGINAL-URL:https://quotabrisbane.org.au
X-WR-CALDESC:Events for Quota Club of Brisbane Inc
REFRESH-INTERVAL;VALUE=DURATION:PT1H
X-Robots-Tag:noindex
X-PUBLISHED-TTL:PT1H
BEGIN:VTIMEZONE
TZID:Australia/Brisbane
BEGIN:STANDARD
TZOFFSETFROM:+1000
TZOFFSETTO:+1000
TZNAME:AEST
DTSTART:20220101T000000
END:STANDARD
END:VTIMEZONE
BEGIN:VEVENT
DTSTART;TZID=Australia/Brisbane:20231205T070000
DTEND;TZID=Australia/Brisbane:20231205T084500
DTSTAMP:20260425T014637
CREATED:20230717T052139Z
LAST-MODIFIED:20231021T010408Z
UID:760-1701759600-1701765900@quotabrisbane.org.au
SUMMARY:Quota Brisbane Annual Christmas Breakfast
DESCRIPTION:Date set Tuesday 5th December at Hornet’s 6:45 a.m. for 7 a.m. start \nThe Quota Christmas Breakfast offers a way to support the community while spreading a little Christmas cheer. The Quota Club of Brisbane Inc. continues the tradition again this year by holding the Quota Christmas Breakfast\, originally started over 30 years ago by the Quota Club of Brisbane North. Enjoy a drink on arrival followed by a hot breakfast. \nJoin in the fun by wearing your Christmas jewellery. Be tempted by our craft table offering some new ideas for Christmas gifts. This year we are launching our Quota Candles with our own signature scent\, hand made Quota patch bears and other craft projects rugs along with items featuring butterflies. \nMoney raised will be used to support children through our ‘Listening to Learn Program’. We will take the opportunity to present a voice amplifier to Brookfield State School to assist students to hear and learn. The money raised will also support women and children who have experienced Domestic Violence and children who are in out of home care. \nBuy your tickets now live via Humanitix. \n  \nDownload Event Flyer\n  \n  \n 
URL:https://quotabrisbane.org.au/event/quota-brisbane-christmas-breakfast/
LOCATION:Aspley Hornet’s Football Club\, 50 Graham Street Carseldine\, Brisbane\, Queensland\, 4034\, Australia
CATEGORIES:Fundraising,Social
ATTACH;FMTTYPE=image/jpeg:https://quotabrisbane.org.au/wp-content/uploads/2023/07/event-quota-christmas.jpg
ORGANIZER;CN="Quota Club of Brisbane Inc.":MAILTO:quotabrisbane@gmail.com
END:VEVENT
END:VCALENDAR