BEGIN:VCALENDAR
VERSION:2.0
PRODID:-//Quota Club of Brisbane Inc - ECPv6.15.20//NONSGML v1.0//EN
CALSCALE:GREGORIAN
METHOD:PUBLISH
X-WR-CALNAME:Quota Club of Brisbane Inc
X-ORIGINAL-URL:https://quotabrisbane.org.au
X-WR-CALDESC:Events for Quota Club of Brisbane Inc
REFRESH-INTERVAL;VALUE=DURATION:PT1H
X-Robots-Tag:noindex
X-PUBLISHED-TTL:PT1H
BEGIN:VTIMEZONE
TZID:Australia/Brisbane
BEGIN:STANDARD
TZOFFSETFROM:+1000
TZOFFSETTO:+1000
TZNAME:AEST
DTSTART:20220101T000000
END:STANDARD
END:VTIMEZONE
BEGIN:VEVENT
DTSTART;TZID=Australia/Brisbane:20241202T110000
DTEND;TZID=Australia/Brisbane:20241202T140000
DTSTAMP:20260420T125216
CREATED:20240908T132951Z
LAST-MODIFIED:20240908T132951Z
UID:1372-1733137200-1733148000@quotabrisbane.org.au
SUMMARY:Quota Brisbane Christmas High Tea
DESCRIPTION:Join the Quota Brisbane team to support homeless women at our new venue for High Tea.  Arrival from 10:30 a.m. for an 11 a.m. start. Includes opportunities for Christmas shopping  at the craft stall\, great raffle prizes and Santa will be there again this year.  Join us for High Tea. Come dressed \nin your Christmas cheer. Help us to support the growing numbers of women over 55 who are homeless. ‘Forgotten Women’ is unique organisation who is helping women over 55 to have a roof over their heads. Funds raised will be donated to the Forgotten Women ‘aid for women by women’ see forgottenwomen.org.au for more information.
URL:https://quotabrisbane.org.au/event/quota-brisbane-christmas-high-tea/
LOCATION:Geebung RSL\, 323 Newman Rd Geebung\, Brisbane\, Queensland\, 4034\, Australia
ORGANIZER;CN="Quota Club of Brisbane Inc.":MAILTO:quotabrisbane@gmail.com
END:VEVENT
BEGIN:VEVENT
DTSTART;TZID=Australia/Brisbane:20241120T173000
DTEND;TZID=Australia/Brisbane:20241120T183000
DTSTAMP:20260420T125216
CREATED:20240219T073051Z
LAST-MODIFIED:20240219T073051Z
UID:1326-1732123800-1732127400@quotabrisbane.org.au
SUMMARY:Quota Brisbane Business Meeting- November
DESCRIPTION:At the November Business Meeting we will be welcoming our new Officers.   We usually meet on the third Wednesday of each month to plan and reflect on our community support. We meet at the Brisbane Square Library on the ground floor from 5:30 p.m.  Some of us will go to Dinner afterwards. \nIf you are interested in attending or finding out more please email us at quotabrisbane@gmail.com \n 
URL:https://quotabrisbane.org.au/event/quota-brisbane-business-meeting-november/
LOCATION:Brisbane Library Square\, 266 George Street\, Brisbane\, QLD\, 4000\, Australia
CATEGORIES:Business Meeting
ATTACH;FMTTYPE=image/jpeg:https://quotabrisbane.org.au/wp-content/uploads/2023/07/event-quota-business-meeting.jpg
ORGANIZER;CN="Quota Club of Brisbane Inc.":MAILTO:quotabrisbane@gmail.com
END:VEVENT
BEGIN:VEVENT
DTSTART;TZID=Australia/Brisbane:20241016T173000
DTEND;TZID=Australia/Brisbane:20241016T183000
DTSTAMP:20260420T125216
CREATED:20240219T072709Z
LAST-MODIFIED:20240219T072709Z
UID:1323-1729099800-1729103400@quotabrisbane.org.au
SUMMARY:Quota Brisbane Business Meeting- October
DESCRIPTION:At the October Meeting we will be holding our AGM followed by a short Business Meeting.  We will hear from our Community Service Coordinator Margaret who will share the club’s achievements over the last twelve months.   Some of us will go to Dinner afterwards. \nIf you are interested in attending or finding out more please email us at quotabrisbane@gmail.com \n 
URL:https://quotabrisbane.org.au/event/quota-brisbane-business-meeting-october/
LOCATION:Brisbane Library Square\, 266 George Street\, Brisbane\, QLD\, 4000\, Australia
CATEGORIES:Business Meeting
ATTACH;FMTTYPE=image/jpeg:https://quotabrisbane.org.au/wp-content/uploads/2023/07/event-quota-business-meeting.jpg
ORGANIZER;CN="Quota Club of Brisbane Inc.":MAILTO:quotabrisbane@gmail.com
END:VEVENT
BEGIN:VEVENT
DTSTART;TZID=Australia/Brisbane:20240918T173000
DTEND;TZID=Australia/Brisbane:20240918T183000
DTSTAMP:20260420T125216
CREATED:20240219T072332Z
LAST-MODIFIED:20240219T072332Z
UID:1321-1726680600-1726684200@quotabrisbane.org.au
SUMMARY:Quota Brisbane Business Meeting- September
DESCRIPTION:At the September Business Meeting we will reflect on our social outing planned for Riverfire. We will hear from our Treasurer about money raised to support the community\, upcoming events and socials.  Some of us will go to Dinner afterwards. \nIf you are interested in attending or finding out more please email us at quotabrisbane@gmail.com \n 
URL:https://quotabrisbane.org.au/event/quota-brisbane-business-meeting-september/
LOCATION:Brisbane Library Square\, 266 George Street\, Brisbane\, QLD\, 4000\, Australia
CATEGORIES:Business Meeting
ATTACH;FMTTYPE=image/jpeg:https://quotabrisbane.org.au/wp-content/uploads/2023/07/event-quota-business-meeting.jpg
ORGANIZER;CN="Quota Club of Brisbane Inc.":MAILTO:quotabrisbane@gmail.com
END:VEVENT
BEGIN:VEVENT
DTSTART;TZID=Australia/Brisbane:20240821T173000
DTEND;TZID=Australia/Brisbane:20240821T183000
DTSTAMP:20260420T125216
CREATED:20240219T071941Z
LAST-MODIFIED:20240219T071941Z
UID:1318-1724261400-1724265000@quotabrisbane.org.au
SUMMARY:Quota Brisbane Business Meeting- August
DESCRIPTION:At the August Business Meeting we will report on the NCWQ Bursary partnership. We will hear about upcoming events including fundraising and social events.  Some of us will go to Dinner afterwards. \nIf you are interested in attending or finding out more please email us at quotabrisbane@gmail.com \n 
URL:https://quotabrisbane.org.au/event/quota-brisbane-business-meeting-august/
LOCATION:Brisbane Library Square\, 266 George Street\, Brisbane\, QLD\, 4000\, Australia
CATEGORIES:Business Meeting
ATTACH;FMTTYPE=image/jpeg:https://quotabrisbane.org.au/wp-content/uploads/2023/07/event-quota-business-meeting.jpg
ORGANIZER;CN="Quota Club of Brisbane Inc.":MAILTO:quotabrisbane@gmail.com
END:VEVENT
BEGIN:VEVENT
DTSTART;TZID=Australia/Brisbane:20240717T173000
DTEND;TZID=Australia/Brisbane:20240717T183000
DTSTAMP:20260420T125216
CREATED:20240219T071404Z
LAST-MODIFIED:20240219T071404Z
UID:1316-1721237400-1721241000@quotabrisbane.org.au
SUMMARY:Quota Brisbane Business Meeting- July
DESCRIPTION:At the July Business Meeting we will discuss the Inaugural Quota Brisbane/ NCWQ Dr Laurel Macintosh OBE Memorial Bursary. Some of us will go to Dinner afterwards. \nIf you are interested in attending or finding out more please email us at quotabrisbane@gmail.com \n 
URL:https://quotabrisbane.org.au/event/quota-brisbane-business-meeting-july/
LOCATION:Brisbane Library Square\, 266 George Street\, Brisbane\, QLD\, 4000\, Australia
CATEGORIES:Business Meeting
ATTACH;FMTTYPE=image/jpeg:https://quotabrisbane.org.au/wp-content/uploads/2023/07/event-quota-business-meeting.jpg
ORGANIZER;CN="Quota Club of Brisbane Inc.":MAILTO:quotabrisbane@gmail.com
END:VEVENT
BEGIN:VEVENT
DTSTART;TZID=Australia/Brisbane:20240619T173000
DTEND;TZID=Australia/Brisbane:20240619T183000
DTSTAMP:20260420T125216
CREATED:20240219T071045Z
LAST-MODIFIED:20240219T071045Z
UID:1314-1718818200-1718821800@quotabrisbane.org.au
SUMMARY:Quota Brisbane Business Meeting- June
DESCRIPTION:At the June Business Meeting we will discuss the fundraising at TUH Car park which is planned for early in June to raise money to support disadvantaged children in the community. Some of us will go to Dinner afterwards. \nIf you are interested in attending or finding out more please email us at quotabrisbane@gmail.com \n 
URL:https://quotabrisbane.org.au/event/quota-brisbane-business-meeting-june/
LOCATION:Brisbane Library Square\, 266 George Street\, Brisbane\, QLD\, 4000\, Australia
CATEGORIES:Business Meeting
ATTACH;FMTTYPE=image/jpeg:https://quotabrisbane.org.au/wp-content/uploads/2023/07/event-quota-business-meeting.jpg
ORGANIZER;CN="Quota Club of Brisbane Inc.":MAILTO:quotabrisbane@gmail.com
END:VEVENT
BEGIN:VEVENT
DTSTART;TZID=Australia/Brisbane:20240515T173000
DTEND;TZID=Australia/Brisbane:20240515T183000
DTSTAMP:20260420T125216
CREATED:20240219T070637Z
LAST-MODIFIED:20240219T070637Z
UID:1312-1715794200-1715797800@quotabrisbane.org.au
SUMMARY:Quota Brisbane Business Meeting- May
DESCRIPTION:We are meeting again on Wednesday (3rd week) of May to discuss the fundraising planned to raise money to support the community. We will be finalising the roster for the upcoming Car Park Fundraiser and some of us will go to Dinner afterwards. \nIf you are interested in attending or finding out more please email us at quotabrisbane@gmail.com \n 
URL:https://quotabrisbane.org.au/event/quota-brisbane-business-meeting-may/
LOCATION:Brisbane Library Square\, 266 George Street\, Brisbane\, QLD\, 4000\, Australia
CATEGORIES:Business Meeting
ATTACH;FMTTYPE=image/jpeg:https://quotabrisbane.org.au/wp-content/uploads/2023/07/event-quota-business-meeting.jpg
ORGANIZER;CN="Quota Club of Brisbane Inc.":MAILTO:quotabrisbane@gmail.com
END:VEVENT
BEGIN:VEVENT
DTSTART;TZID=Australia/Brisbane:20240417T173000
DTEND;TZID=Australia/Brisbane:20240417T183000
DTSTAMP:20260420T125216
CREATED:20240219T070225Z
LAST-MODIFIED:20240219T070225Z
UID:1310-1713375000-1713378600@quotabrisbane.org.au
SUMMARY:Quota Brisbane Business Meeting- April
DESCRIPTION:We are meeting again on Wednesday (3rd week) of April to discuss the fundraising planned to raise money to support the community. We will be discussing the roster for the upcoming Car Park Fundraiser and some of us will go to Dinner afterwards. \nIf you are interested in attending or finding out more please email us at quotabrisbane@gmail.com \n 
URL:https://quotabrisbane.org.au/event/quota-brisbane-business-meeting-april/
LOCATION:Brisbane Library Square\, 266 George Street\, Brisbane\, QLD\, 4000\, Australia
CATEGORIES:Business Meeting
ATTACH;FMTTYPE=image/jpeg:https://quotabrisbane.org.au/wp-content/uploads/2023/07/event-quota-business-meeting.jpg
END:VEVENT
BEGIN:VEVENT
DTSTART;TZID=Australia/Brisbane:20240320T173000
DTEND;TZID=Australia/Brisbane:20240320T183000
DTSTAMP:20260420T125216
CREATED:20240219T063919Z
LAST-MODIFIED:20240219T081312Z
UID:1303-1710955800-1710959400@quotabrisbane.org.au
SUMMARY:Quota Brisbane Business Meeting - March
DESCRIPTION:We usually meet on the third Wednesday of the month at the Brisbane City Square Library from 5:30 p.m. to 6:30 p.m. in the meeting room on the ground floor. If you are interested in attending please contact us at quotabrisbane@gmail.com \n 
URL:https://quotabrisbane.org.au/event/quota-brisbane-business-meeting-march/
CATEGORIES:Business Meeting
ATTACH;FMTTYPE=image/jpeg:https://quotabrisbane.org.au/wp-content/uploads/2023/07/event-quota-business-meeting.jpg
ORGANIZER;CN="Quota Club of Brisbane Inc.":MAILTO:quotabrisbane@gmail.com
END:VEVENT
BEGIN:VEVENT
DTSTART;TZID=Australia/Brisbane:20240225T103000
DTEND;TZID=Australia/Brisbane:20240225T150000
DTSTAMP:20260420T125216
CREATED:20240219T074509Z
LAST-MODIFIED:20240219T082828Z
UID:1328-1708857000-1708873200@quotabrisbane.org.au
SUMMARY:Fun Day Out at the Little Ships Club
DESCRIPTION:Members are looking forward to travelling to Stradbroke Island on the Flyer before lunch at the Little Ships Club February 25th. Members of the club work hard to raise money to support children in our community. The day out is a nice way to unwind and reflect on what we have achieved. Thanks for organising the day out Vanessa.
URL:https://quotabrisbane.org.au/event/fun-day-out-at-the-little-ships-club/
CATEGORIES:Social
ATTACH;FMTTYPE=image/jpeg:https://quotabrisbane.org.au/wp-content/uploads/2024/02/IMG_1325-scaled.jpeg
ORGANIZER;CN="Quota Club of Brisbane Inc.":MAILTO:quotabrisbane@gmail.com
END:VEVENT
BEGIN:VEVENT
DTSTART;TZID=Australia/Brisbane:20240221T173000
DTEND;TZID=Australia/Brisbane:20240221T183000
DTSTAMP:20260420T125216
CREATED:20240219T065330Z
LAST-MODIFIED:20240219T065330Z
UID:1308-1708536600-1708540200@quotabrisbane.org.au
SUMMARY:Quota Brisbane Business Meeting- February
DESCRIPTION:We are meeting again on Wednesday (3rd week) of February to discuss the fundraising planned to raise money to support the community. At our planning meeting early in January we decided to continue to support the Listening to Learn Program. We will be raising money to purchase Soundfield Amplification Systems and ChatterVox Voice amplifiers to assist students to hear and learn. We will also be raising money to support children who are affected by DV through Zephyr Education and children who are out of home via Care Kits for Kids. \nIf you are interested in attending or finding out more please email us at quotabrisbane@gmail.com \n 
URL:https://quotabrisbane.org.au/event/quota-brisbane-business-meeting-february/
LOCATION:Brisbane Library Square\, 266 George Street\, Brisbane\, QLD\, 4000\, Australia
ATTACH;FMTTYPE=image/jpeg:https://quotabrisbane.org.au/wp-content/uploads/2023/07/event-quota-business-meeting.jpg
END:VEVENT
BEGIN:VEVENT
DTSTART;TZID=Australia/Brisbane:20231205T070000
DTEND;TZID=Australia/Brisbane:20231205T084500
DTSTAMP:20260420T125216
CREATED:20230717T052139Z
LAST-MODIFIED:20231021T010408Z
UID:760-1701759600-1701765900@quotabrisbane.org.au
SUMMARY:Quota Brisbane Annual Christmas Breakfast
DESCRIPTION:Date set Tuesday 5th December at Hornet’s 6:45 a.m. for 7 a.m. start \nThe Quota Christmas Breakfast offers a way to support the community while spreading a little Christmas cheer. The Quota Club of Brisbane Inc. continues the tradition again this year by holding the Quota Christmas Breakfast\, originally started over 30 years ago by the Quota Club of Brisbane North. Enjoy a drink on arrival followed by a hot breakfast. \nJoin in the fun by wearing your Christmas jewellery. Be tempted by our craft table offering some new ideas for Christmas gifts. This year we are launching our Quota Candles with our own signature scent\, hand made Quota patch bears and other craft projects rugs along with items featuring butterflies. \nMoney raised will be used to support children through our ‘Listening to Learn Program’. We will take the opportunity to present a voice amplifier to Brookfield State School to assist students to hear and learn. The money raised will also support women and children who have experienced Domestic Violence and children who are in out of home care. \nBuy your tickets now live via Humanitix. \n  \nDownload Event Flyer\n  \n  \n 
URL:https://quotabrisbane.org.au/event/quota-brisbane-christmas-breakfast/
LOCATION:Aspley Hornet’s Football Club\, 50 Graham Street Carseldine\, Brisbane\, Queensland\, 4034\, Australia
CATEGORIES:Fundraising,Social
ATTACH;FMTTYPE=image/jpeg:https://quotabrisbane.org.au/wp-content/uploads/2023/07/event-quota-christmas.jpg
ORGANIZER;CN="Quota Club of Brisbane Inc.":MAILTO:quotabrisbane@gmail.com
END:VEVENT
BEGIN:VEVENT
DTSTART;TZID=Australia/Brisbane:20231115T173000
DTEND;TZID=Australia/Brisbane:20231115T183000
DTSTAMP:20260420T125216
CREATED:20230717T051434Z
LAST-MODIFIED:20230717T051505Z
UID:749-1700069400-1700073000@quotabrisbane.org.au
SUMMARY:Quota Brisbane Monthly Business Meeting - November
DESCRIPTION:Planning of fundraising events to support projects such as 3rd Space and other community needs.\n\nOur monthly Business Meetings are generally held the third Wednesday of the month and are held in the Brisbane Library Square in the CBD. Please email quotabrisbane@gmail.com with any enquiry.
URL:https://quotabrisbane.org.au/event/quota-brisbane-monthly-business-meeting-november/
LOCATION:Brisbane Library Square\, 266 George Street\, Brisbane\, QLD\, 4000\, Australia
CATEGORIES:Business Meeting
ATTACH;FMTTYPE=image/jpeg:https://quotabrisbane.org.au/wp-content/uploads/2023/07/event-quota-business-meeting.jpg
ORGANIZER;CN="Quota Club of Brisbane Inc.":MAILTO:quotabrisbane@gmail.com
END:VEVENT
BEGIN:VEVENT
DTSTART;TZID=Australia/Brisbane:20231018T173000
DTEND;TZID=Australia/Brisbane:20231018T183000
DTSTAMP:20260420T125216
CREATED:20230717T051349Z
LAST-MODIFIED:20230717T051417Z
UID:746-1697650200-1697653800@quotabrisbane.org.au
SUMMARY:Quota Brisbane Monthly Business Meeting - October
DESCRIPTION:Planning of fundraising events to support projects such as 3rd Space and other community needs.\n\nOur monthly Business Meetings are generally held the third Wednesday of the month and are held in the Brisbane Library Square in the CBD. Please email quotabrisbane@gmail.com with any enquiry.
URL:https://quotabrisbane.org.au/event/quota-brisbane-monthly-business-meeting-october/
LOCATION:Brisbane Library Square\, 266 George Street\, Brisbane\, QLD\, 4000\, Australia
CATEGORIES:Business Meeting
ATTACH;FMTTYPE=image/jpeg:https://quotabrisbane.org.au/wp-content/uploads/2023/07/event-quota-business-meeting.jpg
ORGANIZER;CN="Quota Club of Brisbane Inc.":MAILTO:quotabrisbane@gmail.com
END:VEVENT
BEGIN:VEVENT
DTSTART;TZID=Australia/Brisbane:20231007T100000
DTEND;TZID=Australia/Brisbane:20231007T120000
DTSTAMP:20260420T125216
CREATED:20230731T090005Z
LAST-MODIFIED:20230731T090208Z
UID:1193-1696672800-1696680000@quotabrisbane.org.au
SUMMARY:Working Bee in Brendale
DESCRIPTION:Packing bags to provide to the homeless.
URL:https://quotabrisbane.org.au/event/working-bee-in-brendale/
LOCATION:Brighter Ideas Pty Ltd\, Unit 2 14 French Avenue\, Brendale\, QLD\, 4500\, Australia
CATEGORIES:Service
ATTACH;FMTTYPE=image/jpeg:https://quotabrisbane.org.au/wp-content/uploads/2023/07/event-brighter-ideas-working-bee.jpg
ORGANIZER;CN="Quota Club of Brisbane Inc.":MAILTO:quotabrisbane@gmail.com
END:VEVENT
BEGIN:VEVENT
DTSTART;TZID=Australia/Brisbane:20230920T173000
DTEND;TZID=Australia/Brisbane:20230920T183000
DTSTAMP:20260420T125216
CREATED:20230717T051304Z
LAST-MODIFIED:20230717T051336Z
UID:743-1695231000-1695234600@quotabrisbane.org.au
SUMMARY:Quota Brisbane Monthly Business Meeting - September
DESCRIPTION:Planning of fundraising events to support projects such as 3rd Space and other community needs.\n\nOur monthly Business Meetings are generally held the third Wednesday of the month and are held in the Brisbane Library Square in the CBD. Please email quotabrisbane@gmail.com with any enquiry.
URL:https://quotabrisbane.org.au/event/quota-brisbane-monthly-business-meeting-september/
LOCATION:Brisbane Library Square\, 266 George Street\, Brisbane\, QLD\, 4000\, Australia
CATEGORIES:Business Meeting
ATTACH;FMTTYPE=image/jpeg:https://quotabrisbane.org.au/wp-content/uploads/2023/07/event-quota-business-meeting.jpg
ORGANIZER;CN="Quota Club of Brisbane Inc.":MAILTO:quotabrisbane@gmail.com
END:VEVENT
BEGIN:VEVENT
DTSTART;TZID=Australia/Brisbane:20230823T173000
DTEND;TZID=Australia/Brisbane:20230823T183000
DTSTAMP:20260420T125216
CREATED:20230717T051143Z
LAST-MODIFIED:20230717T051237Z
UID:739-1692811800-1692815400@quotabrisbane.org.au
SUMMARY:Quota Brisbane Monthly Business Meeting - August
DESCRIPTION:Planning of fundraising events to support projects such as 3rd Space and other community needs.\n\nOur monthly Business Meetings are generally held the third Wednesday of the month and are held in the Brisbane Library Square in the CBD. Please email quotabrisbane@gmail.com with any enquiry.
URL:https://quotabrisbane.org.au/event/quota-brisbane-monthly-business-meeting-august/
LOCATION:Brisbane Library Square\, 266 George Street\, Brisbane\, QLD\, 4000\, Australia
CATEGORIES:Business Meeting
ATTACH;FMTTYPE=image/jpeg:https://quotabrisbane.org.au/wp-content/uploads/2023/07/event-quota-business-meeting.jpg
ORGANIZER;CN="Quota Club of Brisbane Inc.":MAILTO:quotabrisbane@gmail.com
END:VEVENT
BEGIN:VEVENT
DTSTART;TZID=Australia/Brisbane:20230820T090000
DTEND;TZID=Australia/Brisbane:20230820T140000
DTSTAMP:20260420T125216
CREATED:20230717T051756Z
LAST-MODIFIED:20230717T053203Z
UID:755-1692522000-1692540000@quotabrisbane.org.au
SUMMARY:Fundraiser at Bunnings TBC
DESCRIPTION:Details coming soon\, stay tuned!
URL:https://quotabrisbane.org.au/event/fundraiser-at-bunnings/
CATEGORIES:Fundraising
ATTACH;FMTTYPE=image/jpeg:https://quotabrisbane.org.au/wp-content/uploads/2023/07/event-quota-bunnings.jpg
ORGANIZER;CN="Quota Club of Brisbane Inc.":MAILTO:quotabrisbane@gmail.com
END:VEVENT
BEGIN:VEVENT
DTSTART;TZID=Australia/Brisbane:20230719T173000
DTEND;TZID=Australia/Brisbane:20230719T183000
DTSTAMP:20260420T125216
CREATED:20230717T030516Z
LAST-MODIFIED:20230717T051256Z
UID:663-1689787800-1689791400@quotabrisbane.org.au
SUMMARY:Quota Brisbane Monthly Business Meeting - July
DESCRIPTION:Planning of fundraising events to support projects such as 3rd Space and other community needs.\n\nOur monthly Business Meetings are generally held the third Wednesday of the month and are held in the Brisbane Library Square in the CBD. Please email quotabrisbane@gmail.com with any enquiry.
URL:https://quotabrisbane.org.au/event/quota-brisbane-monthly-business-meeting-july/
LOCATION:Brisbane Library Square\, 266 George Street\, Brisbane\, QLD\, 4000\, Australia
CATEGORIES:Business Meeting
ATTACH;FMTTYPE=image/jpeg:https://quotabrisbane.org.au/wp-content/uploads/2023/07/event-quota-business-meeting.jpg
ORGANIZER;CN="Quota Club of Brisbane Inc.":MAILTO:quotabrisbane@gmail.com
END:VEVENT
END:VCALENDAR